Workbook

Sheet Time Table
A2: SWEDISH NATIONAL DRAGON BOAT CHAMPIONSHIPS 2018
A4: Race | B4: Time | C4: Round | D4: Crews | E4: Competition Format
A6: 200M RACES
A7: 1 | B7: 0.375 | C7: Heat 1 | D7: 4 | E7: Heat Winners go to Grand Final. Three slowest teams go to Tail Race. Rest (4) to Repechage.
A8: 2 | B8: 0.39583333 | C8: Heat 2 | D8: 3
A9: 3 | B9: 0.41666667 | C9: Heat 3 | D9: 3
A10: 4 | B10: 0.45833333 | C10: Repechage | D10: 4 | E10: Winner goes to GF, rest (3) to MF.
A11: 5 | B11: 0.47916667 | C11: Tail Race | D11: 4 | E11: Including Pink Ladies Malmö. To decide 8th to 10th place
A12: 6 | B12: 0.49305556 | C12: Minor Final | D12: 3 | E12: To decide 5th to 7th place
A13: 7 | B13: 0.50694444 | C13: Grand Final | D13: 4 | E13: To decide 1st to 4th place
A14: LUNCH BREAK
A15: 500M RACES
A16: 8 | B16: 0.60416667 | C16: Heat 1 | D16: 3 | E16: Heat Winners go to Grand Final. Two slowest teams go to Tail Race. Rest (4) to Repechage.
A17: 9 | B17: 0.625 | C17: Heat 2 | D17: 3
A18: 10 | B18: 0.64583333 | C18: Heat 3 | D18: 3
A19: 11 | B19: 0.6875 | C19: Repechage | D19: 4 | E19: Winner goes to GF, rest (3) to MF.
A20: 12 | B20: 0.70833333 | C20: Tail Race | D20: 2 | E20: Including Pink Ladies Malmö To decide 8th to 9th place
A21: 13 | B21: 0.72222222 | C21: Minor Final | D21: 3 | E21: To decide 5th to 7th place
A22: 14 | B22: 0.73611111 | C22: Grand Final | D22: 4 | E22: To decide 1st to 4th placest
B24: 0.76041667 | C24: MEDAL PRESENTATIONS

Sheet Race Program
A2: SWEDISH NATIONAL DRAGON BOAT CHAMPIONSHIPS 2018
A5: SATURDAY 11th AUGUST 2018
A6: PROGRAMME OF 200m RACES
D8: LANE 1 | E8: LANE 2 | F8: LANE 3 | G8: LANE 4
A10: RACE: | B10: 1
A12: 09:00 | D12: Lane 1 | E12: Lane 2 | F12: Lane 3 | G12: Lane 4
D13: SIGTUNA MÄLARPIRATERNA | E13: ÖRNSBERG 2 | F13: MALMÖ 1 | G13: SÖDERTÄLJE
A14: Heat 1
A16: Times: | D16: 0.00084143519 | E16: 0.00068541667 | F16: 0.00073912037 | G16: 0.00078310185
A19: RACE: | B19: 2
A21: 09:30 | D21: Lane 1 | E21: Lane 2 | F21: Lane 3 | G21: Lane 4
D22: ÖRNSBERG 3 | E22: KUNGÄLV | F22: MALMÖ 2
A23: Heat 2
A25: Times: | D25: 0.00076064815 | E25: 0.00072013889 | F25: 0.00080625
A28: RACE: | B28: 3
A30: 10:00 | D30: Lane 1 | E30: Lane 2 | F30: Lane 3 | G30: Lane 4
D31: OXELÖSUND | E31: ÖRNSBERG 1 | F31: INDALSÄLVEN
A32: Heat 3
A34: Times: | D34: 0.00070787037 | E34: 0.00069675926 | F34: 0.00076759259
D37: Heat Winners go to Grand Final (R7); three slowest teams to Tail Race (R5), rest (4) to Repechage (R4)
A39: RACE: | B39: 4
A41: 11:00 | D41: Lane 1 | E41: Lane 2 | F41: Lane 3 | G41: Lane 4
D42: INDALSÄLVEN | E42: MALMÖ 1 | F42: ÖRNSBERG 3 | G42: SÖDERTÄLJE
A43: Repechage
D44: 6th in heats | E44: 4th in heats | F44: 5th in heats | G44: 7th in heats
A45: Times: | D45: 0.00073125 | E45: 0.00072222222 | F45: 0.00072546296 | G45: 0.00076689815
D48: Winner goes to Grand Final (R7), rest (3) to Minor Final (R6)
A50: RACE: | B50: 5
A52: 11:30 | D52: Lane 1 | E52: Lane 2 | F52: Lane 3 | G52: Lane 4
D53: SIGTUNA MÄLARPIRATERNA | E53: OXELÖSUND | F53: MALMÖ 2 | G53: PINK LADIES MALMÖ
A54: Tail Race
D55: 10th in heats | E55: 8th in heats | F55: 9th in heats
A56: Times: | D56: 0.00079837963 | E56: 0.00071388889 | F56: DNS | G56: 0.00081365741
D59: To decide 8th to 9th place
A61: RACE: | B61: 6
A63: 11:50 | D63: Lane 1 | E63: Lane 2 | F63: Lane 3 | G63: Lane 4
D64: INDALSÄLVEN | E64: ÖRNSBERG 3 | F64: SÖDERTÄLJE
A65: Minor Final
D66: 4th in rep | E66: 2nd in rep | F66: 3rd in rep
A67: Times: | D67: 0.00073310185 | E67: 0.00072291667 | F67: 0.00082476852
...

Sheet Race Program (2)
A2: SWEDISH NATIONAL DRAGON BOAT CHAMPIONSHIPS 2018
A5: SATURDAY 11th AUGUST 2018
A6: PROGRAMME OF 200m RACES
D8: LANE 1 | E8: LANE 2 | F8: LANE 3 | G8: LANE 4
A10: RACE: | B10: 1
A12: 09:00 | D12: Lane 1 | E12: Lane 2 | F12: Lane 3 | G12: Lane 4
D13: ='Race Program'!D13:D14 -> SIGTUNA MÄLARPIRATERNA | E13: ='Race Program'!E13:E14 -> ÖRNSBERG 2 | F13: ='Race Program'!F13:F14 -> MALMÖ 1 | G13: ='Race Program'!G13:G14 -> SÖDERTÄLJE
A14: Heat 1
D15: #3 to Tail Race | E15: #1 Heat Winner | F15: #1 to Repechage | G15: #4 to Repechage
A16: Times: | D16: ='Race Program'!D16:D17 -> 0.00084143519 | E16: ='Race Program'!E16:E17 -> 0.00068541667 | F16: ='Race Program'!F16:F17 -> 0.00073912037 | G16: ='Race Program'!G16:G17 -> 0.00078310185
A19: RACE: | B19: 2
A21: 09:30 | D21: Lane 1 | E21: Lane 2 | F21: Lane 3 | G21: Lane 4
D22: ='Race Program'!D22:D23 -> ÖRNSBERG 3 | E22: ='Race Program'!E22:E23 -> KUNGÄLV | F22: ='Race Program'!F22:F23 -> MALMÖ 2
A23: Heat 2
D24: #2 to Repechage | E24: #3 Heat Winner | F24: #2 to Tail Race
A25: Times: | D25: ='Race Program'!D25:D26 -> 0.00076064815 | E25: ='Race Program'!E25:E26 -> 0.00072013889 | F25: ='Race Program'!F25:F26 -> 0.00080625
A28: RACE: | B28: 3
A30: 10:00 | D30: Lane 1 | E30: Lane 2 | F30: Lane 3 | G30: Lane 4
D31: ='Race Program'!D31:D32 -> OXELÖSUND | E31: ='Race Program'!E31:E32 -> ÖRNSBERG 1 | F31: ='Race Program'!F31:F32 -> INDALSÄLVEN
A32: Heat 3
D33: #1 to Tail Race | E33: #2 Heat Winner | F33: #3 to Repechage
A34: Times: | D34: ='Race Program'!D34:D35 -> 0.00070787037 | E34: ='Race Program'!E34:E35 -> 0.00069675926 | F34: ='Race Program'!F34:F35 -> 0.00076759259
D37: Heat Winners go to Grand Final (R7); three slowest teams to Tail Race (R5), rest (4) to Repechage (R4)
A39: RACE: | B39: 4
A41: 11:00 | D41: Lane 1 | E41: Lane 2 | F41: Lane 3 | G41: Lane 4
D42: ='Race Program'!D42:D43 -> INDALSÄLVEN | E42: ='Race Program'!E42:E43 -> MALMÖ 1 | F42: ='Race Program'!F42:F43 -> ÖRNSBERG 3 | G42: ='Race Program'!G42:G43 -> SÖDERTÄLJE
A43: Repechage
D44: #2 to Minor Final | E44: Rep Winner | F44: #1 to Minor Final | G44: #3 to Minor Final
A45: Times: | D45: ='Race Program'!D45:D46 -> 0.00073125 | E45: ='Race Program'!E45:E46 -> 0.00072222222 | F45: ='Race Program'!F45:F46 -> 0.00072546296 | G45: ='Race Program'!G45:G46 -> 0.00076689815
D48: Winner goes to Grand Final (R7), rest (3) to Minor Final (R6)
A50: RACE: | B50: 5
A52: 11:30 | D52: Lane 1 | E52: Lane 2 | F52: Lane 3 | G52: Lane 4
D53: ='Race Program'!D53:D54 -> SIGTUNA MÄLARPIRATERNA | E53: ='Race Program'!E53:E54 -> OXELÖSUND | F53: ='Race Program'!F53:F54 -> MALMÖ 2 | G53: ='Race Program'!G53:G54 -> PINK LADIES MALMÖ
A54: Tail Race
D55: 8th place | E55: (out of competition) | F55: (no result) | G55: (out of competition)
A56: Times: | D56: ='Race Program'!D56:D57 -> 0.00079837963 | E56: ='Race Program'!E56:E57 -> 0.00071388889 | F56: ='Race Program'!F56:F57 -> DNS
D59: To decide 8th to 9th place
A61: RACE: | B61: 6
A63: 11:50 | D63: Lane 1 | E63: Lane 2 | F63: Lane 3 | G63: Lane 4
D64: ='Race Program'!D64:D65 -> INDALSÄLVEN | E64: ='Race Program'!E64:E65 -> ÖRNSBERG 3 | F64: ='Race Program'!F64:F65 -> SÖDERTÄLJE
...

Sheet Blad3
