Workbook

Sheet Time Table
A2: SWEDISH NATIONAL DRAGON BOAT CHAMPIONSHIPS 2018
A4: Race | B4: Time | C4: Round | D4: Crews | E4: Competition Format
A6: 200M RACES
A7: 1 | B7: 0.375 | C7: Heat 1 | D7: 4 | E7: Heat Winners go to Grand Final. Three slowest teams go to Tail Race. Rest (4) to Repechage.
A8: 2 | B8: 0.39583333 | C8: Heat 2 | D8: 3
A9: 3 | B9: 0.41666667 | C9: Heat 3 | D9: 3
A10: 4 | B10: 0.45833333 | C10: Repechage | D10: 4 | E10: Winner goes to GF, rest (3) to MF.
A11: 5 | B11: 0.47916667 | C11: Tail Race | D11: 4 | E11: Including Pink Ladies Malmö. To decide 8th to 10th place
A12: 6 | B12: 0.49305556 | C12: Minor Final | D12: 3 | E12: To decide 5th to 7th place
A13: 7 | B13: 0.50694444 | C13: Grand Final | D13: 4 | E13: To decide 1st to 4th place
A14: LUNCH BREAK
A15: 500M RACES
A16: 8 | B16: 0.60416667 | C16: Heat 1 | D16: 3 | E16: Heat Winners go to Grand Final. Two slowest teams go to Tail Race. Rest (4) to Repechage.
A17: 9 | B17: 0.625 | C17: Heat 2 | D17: 3
A18: 10 | B18: 0.64583333 | C18: Heat 3 | D18: 3
A19: 11 | B19: 0.6875 | C19: Repechage | D19: 4 | E19: Winner goes to GF, rest (3) to MF.
A20: 12 | B20: 0.70833333 | C20: Tail Race | D20: 2 | E20: Including Pink Ladies Malmö To decide 8th to 9th place
A21: 13 | B21: 0.72222222 | C21: Minor Final | D21: 3 | E21: To decide 5th to 7th place
A22: 14 | B22: 0.73611111 | C22: Grand Final | D22: 4 | E22: To decide 1st to 4th placest
B24: 0.76041667 | C24: MEDAL PRESENTATIONS

Sheet Race Program
A2: SWEDISH NATIONAL DRAGON BOAT CHAMPIONSHIPS 2018
A5: SATURDAY 11th AUGUST 2018
A6: PROGRAMME OF 200m RACES
D8: LANE 1 | E8: LANE 2 | F8: LANE 3 | G8: LANE 4
A10: RACE: | B10: 1
A12: 09:00 | D12: Lane 1 | E12: Lane 2 | F12: Lane 3 | G12: Lane 4
D13: SIGTUNA MÄLARPIRATERNA | E13: ÖRNSBERG 2 | F13: MALMÖ 1 | G13: SÖDERTÄLJE
A14: Heat 1
A16: Times: | D16: 0.00084143519 | E16: 0.00068541667 | F16: 0.00073912037 | G16: 0.00078310185
A19: RACE: | B19: 2
A21: 09:30 | D21: Lane 1 | E21: Lane 2 | F21: Lane 3 | G21: Lane 4
D22: ÖRNSBERG 3 | E22: KUNGÄLV | F22: MALMÖ 2
A23: Heat 2
A25: Times: | D25: 0.00076064815 | E25: 0.00072013889 | F25: 0.00080625
A28: RACE: | B28: 3
A30: 10:00 | D30: Lane 1 | E30: Lane 2 | F30: Lane 3 | G30: Lane 4
D31: OXELÖSUND | E31: ÖRNSBERG 1 | F31: INDALSÄLVEN
A32: Heat 3
A34: Times: | D34: 0.00070787037 | E34: 0.00069675926 | F34: 0.00076759259
D37: Heat Winners go to Grand Final (R7); three slowest teams to Tail Race (R5), rest (4) to Repechage (R4)
A39: RACE: | B39: 4
A41: 11:00 | D41: Lane 1 | E41: Lane 2 | F41: Lane 3 | G41: Lane 4
D42: INDALSÄLVEN | E42: MALMÖ 1 | F42: ÖRNSBERG 3 | G42: SÖDERTÄLJE
A43: Repechage
D44: 6th in heats | E44: 4th in heats | F44: 5th in heats | G44: 7th in heats
A45: Times: | D45: 0.00073125 | E45: 0.00072222222 | F45: 0.00072546296 | G45: 0.00076689815
D48: Winner goes to Grand Final (R7), rest (3) to Minor Final (R6)
A50: RACE: | B50: 5
A52: 11:30 | D52: Lane 1 | E52: Lane 2 | F52: Lane 3 | G52: Lane 4
D53: SIGTUNA MÄLARPIRATERNA | E53: OXELÖSUND | F53: MALMÖ 2 | G53: PINK LADIES MALMÖ
A54: Tail Race
D55: 10th in heats | E55: 8th in heats | F55: 9th in heats
A56: Times: | D56: 0.00079837963 | E56: 0.00071388889 | F56: DNS | G56: 0.00081365741
D59: To decide 8th to 9th place
A61: RACE: | B61: 6
A63: 11:50 | D63: Lane 1 | E63: Lane 2 | F63: Lane 3 | G63: Lane 4
D64: INDALSÄLVEN | E64: ÖRNSBERG 3 | F64: SÖDERTÄLJE
A65: Minor Final
D66: 4th in rep | E66: 2nd in rep | F66: 3rd in rep
A67: Times: | D67: 0.00073310185 | E67: 0.00072291667 | F67: 0.00082476852
D70: To decide 5th to 7th place
A72: RACE: | B72: 7
A74: 12:10 | D74: Lane 1 | E74: Lane 2 | F74: Lane 3 | G74: Lane 4
D75: KUNGÄLV | E75: ÖRNSBERG 2 | F75: ÖRNSBERG 1 | G75: MALMÖ 1
A76: Grand Final
D77: 3rd in heats | E77: 1st in heats | F77: 2nd in heats | G77: 1st in rep
A78: Times: | D78: 0.00067407407 | E78: 0.00065347222 | F78: 0.00066921296 | G78: 0.00070138889
D81: To decide 1st to 4th place | I81: 1 | J81: Orn 2 | K81: 0.00065347222
I82: 2 | J82: Orn 1 | K82: 0.00066921296
D83: LUNCH BREAK | I83: 3 | J83: Kung | K83: 0.00067407407
I84: 4 | J84: Malm 1 | K84: 0.00070138889
A85: PROGRAMME OF 500m RACES | I85: 5 | J85: Oxel | K85: 0.00071388889
A86: RACE: | B86: 8 | I86: 6 | J86: Orns 3 | K86: 0.00072291667
I87: 7 | J87: Indals | K87: 0.00073310185
A88: 14:30 | D88: Lane 1 | E88: Lane 2 | F88: Lane 3 | G88: Lane 4 | I88: 8 | J88: Sigtuna | K88: 0.00079837963
D89: INDALSÄLVEN | E89: ÖRNSBERG 2 | F89: MALMÖ 1 | I89: 9 | J89: Soder | K89: 0.00082476852
A90: Heat 1 | I90: 10 | J90: Malm 2 = Pink Ladies ! | K90: DNS
D91: 7th in 200m | E91: 1st in 200m | F91: 4th in 200m
A92: Times: | D92: 0.0018400463 | E92: 0.0017287037 | F92: 0.0018608796
A95: RACE: | B95: 9
A97: 15:00 | D97: Lane 1 | E97: Lane 2 | F97: Lane 3 | G97: Lane 4
D98: SÖDERTÄLJE | E98: ÖRNSBERG 1 | F98: OXELÖSUND
A99: Heat 2
D100: 8th in 200m | E100: 2nd in 200m | F100: 5th in 200m
A101: Times: | D101: 0.0018738426 | E101: 0.0017444444 | F101: 0.0017849537
A104: RACE: | B104: 10
A106: 15:30 | D106: Lane 1 | E106: Lane 2 | F106: Lane 3 | G106: Lane 4
D107: MALMÖ 2 | E107: KUNGÄLV | F107: ÖRNSBERG 3
A108: Heat 3
D109: 9th in 200m | E109: 3rd in 200m | F109: 6th in 200m
A110: Times: | D110: 0.0018877315 | E110: 0.0017662037 | F110: 0.0018023148
D113: Heat Winners go to Grand Final (R7); two slowest teams to Tail Race (R12), rest (4) to Repechage (R11)
A115: RACE: | B115: 11
A117: 16:30 | D117: Lane 1 | E117: Lane 2 | F117: Lane 3 | G117: Lane 4
D118: =F89 -> MALMÖ 1 | E118: =F107 -> ÖRNSBERG 3 | F118: =D89 -> INDALSÄLVEN | G118: =D98 -> SÖDERTÄLJE
A119: Repechage
D120: 6th in heats | E120: 4th in heats | F120: 5th in heats | G120: 7th in heats
A121: Times: | D121: 0.0018226852 | E121: 0.0017847222 | F121: 0.0018615741 | G121: 0.0018856481
D124: Winner goes to Grand Final (R7), rest to Minor Final (R6)
A126: RACE: | B126: 12
A128: 17:00 | D128: Lane 1 | E128: Lane 2 | F128: Lane 3 | G128: Lane 4
D129: =D107 -> MALMÖ 2 | E129: =F98 -> OXELÖSUND
A130: Tail Race
D131: 9th in heats | E131: 8th in heats
A132: Times: | D132: 0.0019581019 | E132: 0.0018097222
D135: To decide 8th to 9th place
A137: RACE: | B137: 13
A139: 17:20 | D139: Lane 1 | E139: Lane 2 | F139: Lane 3 | G139: Lane 4
D140: =G118 -> SÖDERTÄLJE | E140: =D118 -> MALMÖ 1 | F140: =F118 -> INDALSÄLVEN
A141: Minor Final
D142: 4th in rep | E142: 2nd in rep | F142: 3rd in rep
A143: Times: | D143: 0.0019136574 | E143: 0.001874537 | F143: 0.0018791667
D146: To decide 5th to 7th place
A148: RACE: | B148: 14
A150: 17:40 | D150: Lane 1 | E150: Lane 2 | F150: Lane 3 | G150: Lane 4
D151: =E107 -> KUNGÄLV | E151: =E89 -> ÖRNSBERG 2 | F151: =E98 -> ÖRNSBERG 1 | G151: =E118 -> ÖRNSBERG 3
A152: Grand Final
D153: 3rd in heats | E153: 1st in heats | F153: 2nd in heats | G153: 1st in rep
A154: Times: | D154: 0.0017458333 | E154: 0.0017034722 | F154: 0.0017532407 | G154: 0.0017775463
D157: To decide 1st to 4th place
...

Sheet Race Program (2)
A2: SWEDISH NATIONAL DRAGON BOAT CHAMPIONSHIPS 2018
A5: SATURDAY 11th AUGUST 2018
A6: PROGRAMME OF 200m RACES
D8: LANE 1 | E8: LANE 2 | F8: LANE 3 | G8: LANE 4
A10: RACE: | B10: 1
A12: 09:00 | D12: Lane 1 | E12: Lane 2 | F12: Lane 3 | G12: Lane 4
D13: ='Race Program'!D13:D14 -> SIGTUNA MÄLARPIRATERNA | E13: ='Race Program'!E13:E14 -> ÖRNSBERG 2 | F13: ='Race Program'!F13:F14 -> MALMÖ 1 | G13: ='Race Program'!G13:G14 -> SÖDERTÄLJE
A14: Heat 1
D15: #3 to Tail Race | E15: #1 Heat Winner | F15: #1 to Repechage | G15: #4 to Repechage
A16: Times: | D16: ='Race Program'!D16:D17 -> 0.00084143519 | E16: ='Race Program'!E16:E17 -> 0.00068541667 | F16: ='Race Program'!F16:F17 -> 0.00073912037 | G16: ='Race Program'!G16:G17 -> 0.00078310185
A19: RACE: | B19: 2
A21: 09:30 | D21: Lane 1 | E21: Lane 2 | F21: Lane 3 | G21: Lane 4
D22: ='Race Program'!D22:D23 -> ÖRNSBERG 3 | E22: ='Race Program'!E22:E23 -> KUNGÄLV | F22: ='Race Program'!F22:F23 -> MALMÖ 2
A23: Heat 2
D24: #2 to Repechage | E24: #3 Heat Winner | F24: #2 to Tail Race
A25: Times: | D25: ='Race Program'!D25:D26 -> 0.00076064815 | E25: ='Race Program'!E25:E26 -> 0.00072013889 | F25: ='Race Program'!F25:F26 -> 0.00080625
A28: RACE: | B28: 3
A30: 10:00 | D30: Lane 1 | E30: Lane 2 | F30: Lane 3 | G30: Lane 4
D31: ='Race Program'!D31:D32 -> OXELÖSUND | E31: ='Race Program'!E31:E32 -> ÖRNSBERG 1 | F31: ='Race Program'!F31:F32 -> INDALSÄLVEN
A32: Heat 3
D33: #1 to Tail Race | E33: #2 Heat Winner | F33: #3 to Repechage
A34: Times: | D34: ='Race Program'!D34:D35 -> 0.00070787037 | E34: ='Race Program'!E34:E35 -> 0.00069675926 | F34: ='Race Program'!F34:F35 -> 0.00076759259
D37: Heat Winners go to Grand Final (R7); three slowest teams to Tail Race (R5), rest (4) to Repechage (R4)
A39: RACE: | B39: 4
A41: 11:00 | D41: Lane 1 | E41: Lane 2 | F41: Lane 3 | G41: Lane 4
D42: ='Race Program'!D42:D43 -> INDALSÄLVEN | E42: ='Race Program'!E42:E43 -> MALMÖ 1 | F42: ='Race Program'!F42:F43 -> ÖRNSBERG 3 | G42: ='Race Program'!G42:G43 -> SÖDERTÄLJE
A43: Repechage
D44: #2 to Minor Final | E44: Rep Winner | F44: #1 to Minor Final | G44: #3 to Minor Final
A45: Times: | D45: ='Race Program'!D45:D46 -> 0.00073125 | E45: ='Race Program'!E45:E46 -> 0.00072222222 | F45: ='Race Program'!F45:F46 -> 0.00072546296 | G45: ='Race Program'!G45:G46 -> 0.00076689815
D48: Winner goes to Grand Final (R7), rest (3) to Minor Final (R6)
A50: RACE: | B50: 5
A52: 11:30 | D52: Lane 1 | E52: Lane 2 | F52: Lane 3 | G52: Lane 4
D53: ='Race Program'!D53:D54 -> SIGTUNA MÄLARPIRATERNA | E53: ='Race Program'!E53:E54 -> OXELÖSUND | F53: ='Race Program'!F53:F54 -> MALMÖ 2 | G53: ='Race Program'!G53:G54 -> PINK LADIES MALMÖ
A54: Tail Race
D55: 8th place | E55: (out of competition) | F55: (no result) | G55: (out of competition)
A56: Times: | D56: ='Race Program'!D56:D57 -> 0.00079837963 | E56: ='Race Program'!E56:E57 -> 0.00071388889 | F56: ='Race Program'!F56:F57 -> DNS
D59: To decide 8th to 9th place
A61: RACE: | B61: 6
A63: 11:50 | D63: Lane 1 | E63: Lane 2 | F63: Lane 3 | G63: Lane 4
D64: ='Race Program'!D64:D65 -> INDALSÄLVEN | E64: ='Race Program'!E64:E65 -> ÖRNSBERG 3 | F64: ='Race Program'!F64:F65 -> SÖDERTÄLJE
A65: Minor Final
D66: 6th place | E66: 5th place | F66: 7th place
A67: Times: | D67: ='Race Program'!D67:D68 -> 0.00073310185 | E67: ='Race Program'!E67:E68 -> 0.00072291667 | F67: ='Race Program'!F67:F68 -> 0.00082476852
D70: To decide 5th to 7th place
A72: RACE: | B72: 7
A74: 12:10 | D74: Lane 1 | E74: Lane 2 | F74: Lane 3 | G74: Lane 4
D75: ='Race Program'!D75:D76 -> KUNGÄLV | E75: ='Race Program'!E75:E76 -> ÖRNSBERG 2 | F75: ='Race Program'!F75:F76 -> ÖRNSBERG 1 | G75: ='Race Program'!G75:G76 -> MALMÖ 1
A76: Grand Final
D77: 2nd Runner-up | E77: Champion | F77: 1st Runner-up | G77: 4th place
A78: Times: | D78: ='Race Program'!D78:D79 -> 0.00067407407 | E78: ='Race Program'!E78:E79 -> 0.00065347222 | F78: ='Race Program'!F78:F79 -> 0.00066921296 | G78: ='Race Program'!G78:G79 -> 0.00070138889
B81: 1st in rep | D81: To decide 1st to 4th place
B82: 2nd in heats
D83: LUNCH BREAK
A85: PROGRAMME OF 500m RACES
A86: RACE: | B86: 8
A88: 14:30 | D88: Lane 1 | E88: Lane 2 | F88: Lane 3 | G88: Lane 4
D89: ='Race Program'!D89:D90 -> INDALSÄLVEN | E89: ='Race Program'!E89:E90 -> ÖRNSBERG 2 | F89: ='Race Program'!F89:F90 -> MALMÖ 1
A90: Heat 1
D91: #2 to Repechage | E91: #1 Heat Winner | F91: #3 to Repechage
A92: Times: | D92: ='Race Program'!D92:D93 -> 0.0018400463 | E92: ='Race Program'!E92:E93 -> 0.0017287037 | F92: ='Race Program'!F92:F93 -> 0.0018608796
A95: RACE: | B95: 9
A97: 15:00 | D97: Lane 1 | E97: Lane 2 | F97: Lane 3 | G97: Lane 4
D98: ='Race Program'!D98:D99 -> SÖDERTÄLJE | E98: ='Race Program'!E98:E99 -> ÖRNSBERG 1 | F98: ='Race Program'!F98:F99 -> OXELÖSUND
A99: Heat 2
D100: #4 to Repechage | E100: #2 Heat Winner | F100: #1 to Tail Race
A101: Times: | D101: ='Race Program'!D101:D102 -> 0.0018738426 | E101: ='Race Program'!E101:E102 -> 0.0017444444 | F101: ='Race Program'!F101:F102 -> 0.0017849537
A104: RACE: | B104: 10
A106: 15:30 | D106: Lane 1 | E106: Lane 2 | F106: Lane 3 | G106: Lane 4
D107: ='Race Program'!D107:D108 -> MALMÖ 2 | E107: ='Race Program'!E107:E108 -> KUNGÄLV | F107: ='Race Program'!F107:F108 -> ÖRNSBERG 3
A108: Heat 3
D109: #2 to Tail Race | E109: #3 Heat Winner | F109: #1 to Repechage
A110: Times: | D110: ='Race Program'!D110:D111 -> 0.0018877315 | E110: ='Race Program'!E110:E111 -> 0.0017662037 | F110: ='Race Program'!F110:F111 -> 0.0018023148
D113: Heat Winners go to Grand Final (R7); two slowest teams to Tail Race (R12), rest (4) to Repechage (R11)
A115: RACE: | B115: 11
A117: 16:30 | D117: Lane 1 | E117: Lane 2 | F117: Lane 3 | G117: Lane 4
D118: ='Race Program'!D118:D119 -> MALMÖ 1 | E118: ='Race Program'!E118:E119 -> ÖRNSBERG 3 | F118: ='Race Program'!F118:F119 -> INDALSÄLVEN | G118: ='Race Program'!G118:G119 -> SÖDERTÄLJE
A119: Repechage
D120: #2 to Minor Final | E120: Winner | F120: #1 to Minor Final | G120: #3 to Minor Final
A121: Times: | D121: ='Race Program'!D121:D122 -> 0.0018226852 | E121: ='Race Program'!E121:E122 -> 0.0017847222 | F121: ='Race Program'!F121:F122 -> 0.0018615741 | G121: ='Race Program'!G121:G122 -> 0.0018856481
D124: Winner goes to Grand Final (R7), rest to Minor Final (R6)
A126: RACE: | B126: 12
A128: 17:00 | D128: Lane 1 | E128: Lane 2 | F128: Lane 3 | G128: Lane 4
D129: ='Race Program'!D129:D130 -> MALMÖ 2 | E129: ='Race Program'!E129:E130 -> OXELÖSUND
A130: Tail Race
D131: 9th place | E131: 8th place
A132: Times: | D132: ='Race Program'!D132:D133 -> 0.0019581019 | E132: ='Race Program'!E132:E133 -> 0.0018097222
D135: To decide 8th to 9th place
A137: RACE: | B137: 13
A139: 17:20 | D139: Lane 1 | E139: Lane 2 | F139: Lane 3 | G139: Lane 4
D140: ='Race Program'!D140:D141 -> SÖDERTÄLJE | E140: ='Race Program'!E140:E141 -> MALMÖ 1 | F140: ='Race Program'!F140:F141 -> INDALSÄLVEN
A141: Minor Final
D142: 7th place | E142: 5th place | F142: 6th place
A143: Times: | D143: ='Race Program'!D143:D144 -> 0.0019136574 | E143: ='Race Program'!E143:E144 -> 0.001874537 | F143: ='Race Program'!F143:F144 -> 0.0018791667
D146: To decide 5th to 7th place
A148: RACE: | B148: 14
A150: 17:40 | D150: Lane 1 | E150: Lane 2 | F150: Lane 3 | G150: Lane 4
D151: ='Race Program'!D151:D152 -> KUNGÄLV | E151: ='Race Program'!E151:E152 -> ÖRNSBERG 2 | F151: ='Race Program'!F151:F152 -> ÖRNSBERG 1 | G151: ='Race Program'!G151:G152 -> ÖRNSBERG 3
A152: Grand Final
D153: 1st Runner-up | E153: Champion | F153: 2nd Runner-up | G153: 4th place
A154: Times: | D154: ='Race Program'!D154:D155 -> 0.0017458333 | E154: ='Race Program'!E154:E155 -> 0.0017034722 | F154: ='Race Program'!F154:F155 -> 0.0017532407 | G154: ='Race Program'!G154:G155 -> 0.0017775463
...

Sheet Blad3
